Workbook

Sheet Organizational diagnosis
C1: Orgnizational Design: A Step-by-Step Approach©
C3: Richard M. Burton, Borge Obel and Dorthe Døjbak Håkonsson
C5: Organizational diagnosis
C7: Welcome to the spreadsheet model. The Organizational diagnosis contain macros, if there is any trouble activating this feature, go to the sheet "Guide for VBA". This will ensure the spreadsheet is saved macro enabled as well as ensuring the macros works properly. Furthermore, you should know that inserting or deleting rows or columns will make the macros not function.
C10: Goals of the organization
C13: To begin the organizational design process, choose the unit of analysis and keep that fixed throughout the step-by-step method: the top management layer of a large firm, a small firm, a division within a large firm, a department or a project. Thus, we advise starting with the whole firm by taking a cascade approach from top to bottom to obtain a complete analysis. Start at the executive level of the organization, go through the five-step design process, and then repeat the process for each major department or business division. You may have to iterate more than once. Of course the task of your design approach may not be the total firm. But our advice is to start at the top of the unit you are considering. It is essential that all the information relevant to assess the different design variables is brought together and diagnosed in an integrated fashion. To enable an organizational audit, what is essential is that all information is available to be dealt with once the diagnosis process begins. Therefore, it may be necessary to define the information gathering as a project, with clear allocation of project responsibilities and milestones for when the data should be retrieved. Depending on the organization and its situation, the information gathering project may take many forms and shapes.
C27: 1. What is the unit of analysis for the step-by-step approach?
D28: Magazine
C31: 2. What does the organization do? What is its major work activity?
D32: Imperia company produces hybrid vehicles which uses traditional engine and rechargeble system
C35: 3. How does the organization score on efficiency? | N35: (1-5)
D36: a. Does the firm discuss the relation between the input of resources and the output of products and/or services; does the firm want to utilize its resources well? | N36: 5
D37: b. Does the firm discuss (and value) the relation between the effort spent by employees and what they produce; does the firm want to make good use of the employees’ skills? | N37: 5
D38: c. Does the firm support employee skills development and learning for enhancing productivity? | N38: 4
D39: d. Does the firm’s leadership articulate its concern for a strong relationship on the above? | N39: 5
D40: The score on efficiency | N40: =AVERAGE(N36:N39) -> 4.75 | O40: y-axis
C43: 4. How does the organization score on effectiveness? | N43: (1-5)
D44: a. How close does the firm want to be to its customers; does it meet the customer needs precisely – present and anticipated? | N44: 5
D45: b. How close does the firm want to be to social demands, including its regulators; does it want to meet environmental needs – present and anticipated? | N45: 5
D46: c. How close does the firm want to be to its suppliers, including outsourcers: does it want to relate to supplier needs and concerns – present and anticipated? | N46: 5
D47: d. How close does the firm want to be to its financiers and stockholders: does it value its relations with its owners, banks and financial institutions – present and anticipated? | N47: 4
D48: The score on effectiveness | N48: =AVERAGE(N44:N47) -> 4.75 | O48: x-axis
C50: Quadrant name: | F50: =IF(AND(N48<3,N40<3),"A",IF(AND(N48<3,N40>3),"B",IF(AND(N48>3,N40<3),"C",IF(AND(N48>3,N40>3),"D",IF(AND(N48<3,N40=3),"A/B",IF(AND(N48>3,N40=3),"C/D",IF(AND(N48=3,N40<3),"A/C",IF(AND(N48=3,N40>3),"B/D",IF(AND(N48=3,N40=3),"A/B/C/D","ERROR"))))))))) -> D
C55: Strategy
C58: Use this unit of analysis as the organization when answering the questions below.
C61: 1. Exploration: | N61: (1-5)
D62: a. How innovative are the firm’s products? | N62: 5
D63: b. What is the price compared to the value of the product? | N63: 5
D64: c. What is the price level compared to the quality level? | N64: 5
D65: d. How frequently does the firm develop new products? | N65: 3
D66: e. How difficult is it for other firms to develop related products? | N66: 4
D67: The score on exploration | N67: =AVERAGE(N62:N66) -> 4.4 | O67: x-axis
C70: 2. Exploitation: | N70: (1-5)
D71: a. What is the firm’s degree of process innovation? | N71: 5
D72: b. What are its prices compared to the competition? | N72: 4
D73: c. What is its quality in terms of its standardization and reliability? | N73: 4
D74: d. What is the number of products the organization has compared to its competitors? | N74: 3
D75: e. What are the barriers to entry in its industry? | N75: 4
D76: The score on exploitation | N76: =AVERAGE(N71:N75) -> 4 | O76: y-axis
C79: Quadrant name: | F79: =IF(AND(N67<3,N76<3),"Reactor",IF(AND(N67<3,N76>3),"Defender",IF(AND(N67>3,N76<3),"Prospector",IF(AND(N67>3,N76>3,N67>N76),"Analyzer with innovation",IF(AND(N67>3,N76>3,N76>N67),"Analyzer without innovation",IF(AND(N67<3,N76=3),"Reacter/Defender",IF(AND(N67>3,N76=3),"Prospector/Analyzer with innovation",IF(AND(N67=3,N76<3),"Reactor/Prospector",IF(AND(N67=3,N76>3),"Defender/Analyzer without innovation",IF(AND(N67=3,N76=3),"Reactor/Defender/Prospector/Analyzer",IF(AND(N67>3,N76>3,N67=N76),"Analyzer with/without innovation","ERROR"))))))))))) -> Analyzer with innovation
...

Sheet Chart
A34: =+'Organizational diagnosis'!C10 -> Goals of the organization | B34: Current scores
A35: Score on Efficiency | B35: =+'Organizational diagnosis'!N48 -> 4.75 | C35: x
A36: Score on Effectiveness | B36: =+'Organizational diagnosis'!N40 -> 4.75 | C36: y
A37: Quadrant name: | B37: =+'Organizational diagnosis'!F50 -> D
A39: =+'Organizational diagnosis'!C55 -> Strategy
A40: Score on Exploration | B40: =+'Organizational diagnosis'!N67 -> 4.4 | C40: x
A41: Score on Exploitation | B41: =+'Organizational diagnosis'!N76 -> 4 | C41: y
A42: Quadrant name: | B42: =+'Organizational diagnosis'!F79 -> Analyzer with innovation
A44: =+'Organizational diagnosis'!C84 -> Environment
A45: Score on Complexity | B45: =+'Organizational diagnosis'!N149 -> 2.8333333 | C45: x
A46: Score on Unpredictability | B46: =+'Organizational diagnosis'!N131 -> 3 | C46: y
A47: Quadrant name: | B47: =+'Organizational diagnosis'!F151 -> Calm/Varied
A49: =+'Organizational diagnosis'!C154 -> Configuration
A50: Score on Product/Service/Customer Orientation | B50: =+'Organizational diagnosis'!N167 -> 4.6666667 | C50: x
A51: Score on Functional specialization | B51: =+'Organizational diagnosis'!N173 -> 4.3333333 | C51: y
A52: Quadrant name: | B52: =+'Organizational diagnosis'!F179 -> Matrix
A54: =+'Organizational diagnosis'!C182 -> Organizational forms
A55: Score on Local responsiveness | B55: =+'Organizational diagnosis'!N191 -> 2 | C55: x
A56: Score on Optimal sourcing | B56: =+'Organizational diagnosis'!N201 -> 2.6 | C56: y
A57: Quadrant name: | B57: =+'Organizational diagnosis'!F203 -> Global
A58: Score External activities | B58: =+'Organizational diagnosis'!N222 -> 4.3333333 | C58: x
A59: Score on External people | B59: =+'Organizational diagnosis'!N213 -> 4.6666667 | C59: y
A60: Quadrant name: | B60: =+'Organizational diagnosis'!F224 -> Confederation
A62: =+'Organizational diagnosis'!C228 -> Task design
A63: Score on Repetitiveness | B63: =+'Organizational diagnosis'!N237 -> 4.6666667 | C63: x
A64: Score on Divisibility | B64: =+'Organizational diagnosis'!N243 -> 3.3333333 | C64: y
A65: Quadrant name: | B65: =+'Organizational diagnosis'!F245 -> Knotty
A67: =+'Organizational diagnosis'!C250 -> People
A68: Score on Number of people | B68: ='Organizational diagnosis'!N266 -> 5 | C68: y
A69: Score on Professionalization | B69: ='Organizational diagnosis'!N276 -> 2 | C69: x
A70: Quadrant name: | B70: =+'Organizational diagnosis'!F278 -> Factory
A72: =+'Organizational diagnosis'!C283 -> Leadership and organizational climate
A73: Score on Preference for delegation | B73: =+'Organizational diagnosis'!N298 -> 3.6666667 | C73: x
A74: Score on Uncertainty avoidance | B74: =+'Organizational diagnosis'!N309 -> 4.25 | C74: y
A75: Quadrant name: | B75: =+'Organizational diagnosis'!F311 -> Producer
A76: Score on Rediness to change | B76: =+'Organizational diagnosis'!N321 -> 3.5 | C76: x
A77: Score on Tension | B77: =+'Organizational diagnosis'!N329 -> 5 | C77: y
A78: Quadrant name: | B78: =+'Organizational diagnosis'!F331 -> Rational goal
A80: =+'Organizational diagnosis'!C337 -> Coordination, control, and information and knowledge systems
A81: Score on Decentralization | B81: =+'Organizational diagnosis'!N348 -> 3.8 | C81: x
...
